{ "currentVersion": 11.5, "serviceDescription": "

Date of Photography: July 1, 8 & August 12, 2025<\/span><\/p>
Pixel Resolution: 7.5cm<\/span><\/p>
Spectral Bands: RGB Colour & NIR<\/span><\/p>
Airborne Sensor: Vexcel UltraCam Eagle M3 (with 210mm lens)<\/span><\/p>
Coordinate System: 3TM 114W NAD83 (EPSG Code 3776)<\/span><\/p>
Date Orthophoto Created: 2025<\/span><\/p>
Data Steward Contact: Geospatial Business Solutions division, GBS@Calgary.ca<\/span><\/p>
Horizontal Accuracy :+/-15cm at 95% confidence level on flat ground surfaces. (confirmed with 70+ surveyed ground control points in the original 3TM 114W NAD83 version.)<\/span><\/p>
The orthophoto is a seamless mosaic of accurately positioned aerial images. These aerial images are geometrically corrected for camera perspective and terrain relief so that they have a consistent scale and can be used for direct positional measurements of ground features like a map.<\/span><\/p>
The aerial photo was captured using a fixed wing aircraft equipped with a special aerial camera sensor and high accuracy GNSS/INS positioning systems to gather thousands of overlapping images in a grid pattern across the entire city. These stereo images were accurately geo-referenced and tied together using the airborne and ground control data in a photogrammetric aerial triangulation. The imagery was then orthorectified using the Calgary 2022-2024 LIDAR bare-earth DEM. <\/span><\/p>
Orthophoto is considered a core geospatial dataset. It is commonly used in many applications such as geospatial analysis, engineering design, City planning, asset management and as a base GIS dataset providing rich contextual information for anywhere in the city. The Calgary orthophoto is updated annually with a city-wide aerial survey flown each spring. <\/span><\/p>
<\/p><\/div><\/div><\/div>", "name": "pub_Orthophotos/CurrentOrthophoto", "description": "

Date of Photography: July 1, 8 & August 12, 2025<\/span><\/p>
Pixel Resolution: 7.5cm<\/span><\/p>
Spectral Bands: RGB Colour & NIR<\/span><\/p>
Airborne Sensor: Vexcel UltraCam Eagle M3 (with 210mm lens)<\/span><\/p>
Coordinate System: 3TM 114W NAD83 (EPSG Code 3776)<\/span><\/p>
Date Orthophoto Created: 2025<\/span><\/p>
Data Steward Contact: Geospatial Business Solutions division, GBS@Calgary.ca<\/span><\/p>
Horizontal Accuracy :+/-15cm at 95% confidence level on flat ground surfaces. (confirmed with 70+ surveyed ground control points in the original 3TM 114W NAD83 version.)<\/span><\/p>
The orthophoto is a seamless mosaic of accurately positioned aerial images. These aerial images are geometrically corrected for camera perspective and terrain relief so that they have a consistent scale and can be used for direct positional measurements of ground features like a map.<\/span><\/p>
The aerial photo was captured using a fixed wing aircraft equipped with a special aerial camera sensor and high accuracy GNSS/INS positioning systems to gather thousands of overlapping images in a grid pattern across the entire city. These stereo images were accurately geo-referenced and tied together using the airborne and ground control data in a photogrammetric aerial triangulation. The imagery was then orthorectified using the Calgary 2022-2024 LIDAR bare-earth DEM. <\/span><\/p>
Orthophoto is considered a core geospatial dataset. It is commonly used in many applications such as geospatial analysis, engineering design, City planning, asset management and as a base GIS dataset providing rich contextual information for anywhere in the city. The Calgary orthophoto is updated annually with a city-wide aerial survey flown each spring. <\/span><\/p>
<\/p><\/div><\/div><\/div>", "extent": { "xmin": -24623.325000000186, "ymin": 5632879.950000016, "xmax": 12872.324999987068, "ymax": 5676946.050000001, "spatialReference": { "wkid": 102187, "latestWkid": 3776 } }, "initialExtent": { "xmin": -24623.325000000186, "ymin": 5632879.950000016, "xmax": 12872.324999987068, "ymax": 5676946.050000001, "spatialReference": { "wkid": 102187, "latestWkid": 3776 } }, "fullExtent": { "xmin": -24623.325000000186, "ymin": 5632879.950000016, "xmax": 12872.324999987068, "ymax": 5676946.050000001, "spatialReference": { "wkid": 102187, "latestWkid": 3776 } }, "sortableFields": "", "bandCount": 3, "pixelType": "U8", "minValues": [ 0, 9, 14 ], "maxValues": [ 255, 255, 255 ], "meanValues": [ 98.96992320731391, 120.39104374443193, 106.24431834610994 ], "stdvValues": [ 38.448556236765924, 30.176480130271425, 33.55125060542368 ], "serviceProperties": "NorthWest<\/MosaicMethod>First<\/MosaicOperator>true<\/SortAscending><\/LockImageID>Name<\/TileOrderField>0<\/TileOrderBase>600.000000<\/AvgImageSpacingX>300.000000<\/AvgImageSpacingY>0.0<\/ViewPointX>0.0<\/ViewPointY>0.0<\/ViewPointDefShiftX>0.0<\/ViewPointDefShiftY>JPEG<\/CompressionMethod>80<\/CompressionQuality>0.010000<\/CompressionTolerance>Bilinear<\/SamplingMethod><\/ImageServiceProperties><\/ImageServer>", "allowedFields": "Name,MinPS,MaxPS,LowPS,HighPS,Tag,GroupName,ProductName,CenterX,CenterY,ZOrder,Shape_Length,Shape_Area", "hasMultidimensions": false, "pixelSizeX": 0.0749999999999745, "pixelSizeY": 0.074999999999974, "meanPixelSize": 0.07499999999997425, "datasetFormat": "AMD", "uncompressedSize": 881219766648, "blockWidth": 2048, "blockHeight": 256, "compressionType": "None", "bandNames": [ "Red", "Green", "Blue" ], "allowCopy": true, "allowAnalysis": true, "itemAccess": false, "inspectionCapabilities": "", "minPixelSize": 0, "maxPixelSize": 0, "copyrightText": "City of Calgary", "serviceDataType": "esriImageServiceDataTypeProcessed", "serviceSourceType": "esriImageServiceSourceTypeMosaicDataset", "objectIdField": "OBJECTID", "fields": [ { "name": "OBJECTID", "type": "esriFieldTypeOID", "alias": "OBJECTID", "domain": null }, { "name": "Shape", "type": "esriFieldTypeGeometry", "alias": "Shape", "domain": null }, { "name": "Name", "type": "esriFieldTypeString", "alias": "Name", "domain": null, "length": 200 }, { "name": "MinPS", "type": "esriFieldTypeDouble", "alias": "MinPS", "domain": null }, { "name": "MaxPS", "type": "esriFieldTypeDouble", "alias": "MaxPS", "domain": null }, { "name": "LowPS", "type": "esriFieldTypeDouble", "alias": "LowPS", "domain": null }, { "name": "HighPS", "type": "esriFieldTypeDouble", "alias": "HighPS", "domain": null }, { "name": "Category", "type": "esriFieldTypeInteger", "alias": "Category", "domain": { "type": "codedValue", "name": "MosaicCatalogItemCategoryDomain", "description": "Catalog item categories.", "codedValues": [ { "name": "Unknown", "code": 0 }, { "name": "Primary", "code": 1 }, { "name": "Overview", "code": 2 }, { "name": "Unprocessed Overview", "code": 3 }, { "name": "Partial Overview", "code": 4 }, { "name": "Inactive", "code": 5 }, { "name": "Uploaded", "code": 253 }, { "name": "Incomplete", "code": 254 }, { "name": "Custom", "code": 255 } ], "mergePolicy": "esriMPTDefaultValue", "splitPolicy": "esriSPTDefaultValue" } }, { "name": "Tag", "type": "esriFieldTypeString", "alias": "Tag", "domain": null, "length": 100 }, { "name": "GroupName", "type": "esriFieldTypeString", "alias": "GroupName", "domain": null, "length": 100 }, { "name": "ProductName", "type": "esriFieldTypeString", "alias": "ProductName", "domain": null, "length": 100 }, { "name": "CenterX", "type": "esriFieldTypeDouble", "alias": "CenterX", "domain": null }, { "name": "CenterY", "type": "esriFieldTypeDouble", "alias": "CenterY", "domain": null }, { "name": "ZOrder", "type": "esriFieldTypeInteger", "alias": "ZOrder", "domain": null }, { "name": "Shape_Length", "type": "esriFieldTypeDouble", "alias": "Shape_Length", "domain": null }, { "name": "Shape_Area", "type": "esriFieldTypeDouble", "alias": "Shape_Area", "domain": null } ], "capabilities": "Catalog,Mensuration,Image,Metadata", "defaultMosaicMethod": "Northwest", "allowedMosaicMethods": "NorthWest,Center,LockRaster,ByAttribute,Nadir,Viewpoint,Seamline,None", "sortField": "", "sortValue": null, "sortAscending": true, "mosaicOperator": "First", "maxDownloadSizeLimit": 2048, "defaultCompressionQuality": 80, "defaultResamplingMethod": "Bilinear", "maxImageHeight": 4100, "maxImageWidth": 15000, "maxRecordCount": 1000, "maxDownloadImageCount": 20, "maxMosaicImageCount": 20, "allowRasterFunction": true, "rasterFunctionInfos": [ { "name": "None", "description": "", "help": "" } ], "rasterTypeInfos": [ { "name": "Raster Dataset", "description": "Supports all ArcGIS Raster Datasets", "help": "" } ], "mensurationCapabilities": "Basic", "hasHistograms": true, "hasColormap": false, "hasRasterAttributeTable": false, "minScale": 0, "maxScale": 0, "exportTilesAllowed": false, "supportsStatistics": true, "supportsAdvancedQueries": true, "editFieldsInfo": null, "ownershipBasedAccessControlForRasters": null, "allowComputeTiePoints": false, "useStandardizedQueries": true, "advancedQueryCapabilities": { "useStandardizedQueries": true, "supportsStatistics": true, "supportsOrderBy": true, "supportsDistinct": true, "supportsPagination": true }, "spatialReference": { "wkid": 102187, "latestWkid": 3776 }, "resampling": false }