{ "currentVersion": 10.91, "serviceDescription": "
Date of Photography: June 11, 20, July 20 & August 29, 2024<\/span><\/p> Date Orthophoto Created: 2024<\/span><\/p> Pixel Resolution: 0.10m<\/span><\/p> Spectral Bands: RGB Colour & NIR<\/span><\/p> Airborne Sensor: Leica DMCIII<\/span><\/p> Coordinate System: 3TM 114W NAD83 (EPSG Code 3776)<\/span><\/p> Data Steward Contact: Geospatial Business Solutions division, GBS@Calgary.ca<\/span><\/p> Horizontal Accuracy :+/-15cm at 95% confidence level on flat ground surfaces. (confirmed with 70+ surveyed ground control points in the original 3TM 114W NAD83 version.)<\/span><\/p> The 2024 mosaic includes additional coverage around the Springbank airport in Rocky View County. <\/span><\/p> The orthophoto is a seamless mosaic of accurately positioned aerial images. These aerial images are geometrically corrected for camera perspective and terrain relief so that they have a consistent scale and can be used for direct positional measurements of ground features like a map.<\/span><\/p> The aerial photo was captured using a fixed wing aircraft equipped with a special aerial camera sensor and high accuracy GNSS/INS positioning systems to gather thousands of overlapping images in a grid pattern across the entire city. These stereo images were accurately geo-referenced and tied together using the airborne and ground control data in a photogrammetric aerial triangulation. The imagery was then orthorectified using the Calgary 2022 LIDAR bare-Earth DEM. <\/span><\/p> Orthophoto is considered a core geospatial dataset. It is commonly used in many applications such as geospatial analysis, engineering design, City planning, asset management and as a base GIS dataset providing rich contextual information for anywhere in the city. The Calgary orthophoto is updated annually with a city-wide aerial survey flown each spring. <\/span><\/p><\/div><\/div><\/div>",
"name": "pub_Orthophotos/CurrentOrthophoto",
"description": " Date of Photography: June 11, 20, July 20 & August 29, 2024<\/span><\/p> Date Orthophoto Created: 2024<\/span><\/p> Pixel Resolution: 0.10m<\/span><\/p> Spectral Bands: RGB Colour & NIR<\/span><\/p> Airborne Sensor: Leica DMCIII<\/span><\/p> Coordinate System: 3TM 114W NAD83 (EPSG Code 3776)<\/span><\/p> Data Steward Contact: Geospatial Business Solutions division, GBS@Calgary.ca<\/span><\/p> Horizontal Accuracy :+/-15cm at 95% confidence level on flat ground surfaces. (confirmed with 70+ surveyed ground control points in the original 3TM 114W NAD83 version.)<\/span><\/p> The 2024 mosaic includes additional coverage around the Springbank airport in Rocky View County. <\/span><\/p> The orthophoto is a seamless mosaic of accurately positioned aerial images. These aerial images are geometrically corrected for camera perspective and terrain relief so that they have a consistent scale and can be used for direct positional measurements of ground features like a map.<\/span><\/p> The aerial photo was captured using a fixed wing aircraft equipped with a special aerial camera sensor and high accuracy GNSS/INS positioning systems to gather thousands of overlapping images in a grid pattern across the entire city. These stereo images were accurately geo-referenced and tied together using the airborne and ground control data in a photogrammetric aerial triangulation. The imagery was then orthorectified using the Calgary 2022 LIDAR bare-Earth DEM. <\/span><\/p> Orthophoto is considered a core geospatial dataset. It is commonly used in many applications such as geospatial analysis, engineering design, City planning, asset management and as a base GIS dataset providing rich contextual information for anywhere in the city. The Calgary orthophoto is updated annually with a city-wide aerial survey flown each spring. <\/span><\/p><\/div><\/div><\/div>",
"extent": {
"xmin": -29529.200000000186,
"ymin": 5632880.000000009,
"xmax": 12872.299999990588,
"ymax": 5676946,
"spatialReference": {"wkt": "PROJCS[\"Calgary_3TM_WGS_1984_W114\",GEOGCS[\"GCS_WGS_1984\",DATUM[\"D_WGS_1984\",SPHEROID[\"WGS_1984\",6378137.0,298.257223563]],PRIMEM[\"Greenwich\",0.0],UNIT[\"Degree\",0.0174532925199433]],PROJECTION[\"Transverse_Mercator\"],PARAMETER[\"False_Easting\",0.0],PARAMETER[\"False_Northing\",0.0],PARAMETER[\"Central_Meridian\",-114.0],PARAMETER[\"Scale_Factor\",0.9999],PARAMETER[\"Latitude_Of_Origin\",0.0],UNIT[\"Meter\",1.0]]"}
},
"initialExtent": {
"xmin": -29529.200000000186,
"ymin": 5632880.000000009,
"xmax": 12872.299999990588,
"ymax": 5676946,
"spatialReference": {"wkt": "PROJCS[\"Calgary_3TM_WGS_1984_W114\",GEOGCS[\"GCS_WGS_1984\",DATUM[\"D_WGS_1984\",SPHEROID[\"WGS_1984\",6378137.0,298.257223563]],PRIMEM[\"Greenwich\",0.0],UNIT[\"Degree\",0.0174532925199433]],PROJECTION[\"Transverse_Mercator\"],PARAMETER[\"False_Easting\",0.0],PARAMETER[\"False_Northing\",0.0],PARAMETER[\"Central_Meridian\",-114.0],PARAMETER[\"Scale_Factor\",0.9999],PARAMETER[\"Latitude_Of_Origin\",0.0],UNIT[\"Meter\",1.0]]"}
},
"fullExtent": {
"xmin": -29529.200000000186,
"ymin": 5632880.000000009,
"xmax": 12872.299999990588,
"ymax": 5676946,
"spatialReference": {"wkt": "PROJCS[\"Calgary_3TM_WGS_1984_W114\",GEOGCS[\"GCS_WGS_1984\",DATUM[\"D_WGS_1984\",SPHEROID[\"WGS_1984\",6378137.0,298.257223563]],PRIMEM[\"Greenwich\",0.0],UNIT[\"Degree\",0.0174532925199433]],PROJECTION[\"Transverse_Mercator\"],PARAMETER[\"False_Easting\",0.0],PARAMETER[\"False_Northing\",0.0],PARAMETER[\"Central_Meridian\",-114.0],PARAMETER[\"Scale_Factor\",0.9999],PARAMETER[\"Latitude_Of_Origin\",0.0],UNIT[\"Meter\",1.0]]"}
},
"hasMultidimensions": false,
"pixelSizeX": 0.09999999999997825,
"pixelSizeY": 0.09999999999997887,
"datasetFormat": "AMD",
"uncompressedSize": 560539349700,
"blockWidth": 2048,
"blockHeight": 256,
"compressionType": "None",
"bandNames": [
"Red",
"Green",
"Blue"
],
"allowCopy": true,
"allowAnalysis": true,
"bandCount": 3,
"pixelType": "U8",
"minPixelSize": 0,
"maxPixelSize": 0,
"copyrightText": "City of Calgary",
"serviceDataType": "esriImageServiceDataTypeProcessed",
"serviceSourceType": "esriImageServiceSourceTypeMosaicDataset",
"minValues": [
0.08447488584474883,
0.18449197860962563,
0.17368421052631577
],
"maxValues": [
254.91552511415523,
254.81550802139037,
254.82631578947368
],
"meanValues": [
106.49137493658037,
147.0460487225192,
122.73467492260052
],
"stdvValues": [
37.668397054513704,
37.80607596774761,
37.70119172696503
],
"objectIdField": "OBJECTID",
"fields": [
{
"name": "OBJECTID",
"type": "esriFieldTypeOID",
"alias": "OBJECTID",
"domain": null
},
{
"name": "Shape",
"type": "esriFieldTypeGeometry",
"alias": "Shape",
"domain": null
},
{
"name": "Name",
"type": "esriFieldTypeString",
"alias": "Name",
"domain": null,
"length": 200
},
{
"name": "MinPS",
"type": "esriFieldTypeDouble",
"alias": "MinPS",
"domain": null
},
{
"name": "MaxPS",
"type": "esriFieldTypeDouble",
"alias": "MaxPS",
"domain": null
},
{
"name": "LowPS",
"type": "esriFieldTypeDouble",
"alias": "LowPS",
"domain": null
},
{
"name": "HighPS",
"type": "esriFieldTypeDouble",
"alias": "HighPS",
"domain": null
},
{
"name": "Category",
"type": "esriFieldTypeInteger",
"alias": "Category",
"domain": {
"type": "codedValue",
"name": "MosaicCatalogItemCategoryDomain",
"description": "Catalog item categories.",
"codedValues": [
{
"name": "Unknown",
"code": 0
},
{
"name": "Primary",
"code": 1
},
{
"name": "Overview",
"code": 2
},
{
"name": "Unprocessed Overview",
"code": 3
},
{
"name": "Partial Overview",
"code": 4
},
{
"name": "Inactive",
"code": 5
},
{
"name": "Uploaded",
"code": 253
},
{
"name": "Incomplete",
"code": 254
},
{
"name": "Custom",
"code": 255
}
],
"mergePolicy": "esriMPTDefaultValue",
"splitPolicy": "esriSPTDefaultValue"
}
},
{
"name": "Tag",
"type": "esriFieldTypeString",
"alias": "Tag",
"domain": null,
"length": 100
},
{
"name": "GroupName",
"type": "esriFieldTypeString",
"alias": "GroupName",
"domain": null,
"length": 100
},
{
"name": "ProductName",
"type": "esriFieldTypeString",
"alias": "ProductName",
"domain": null,
"length": 100
},
{
"name": "CenterX",
"type": "esriFieldTypeDouble",
"alias": "CenterX",
"domain": null
},
{
"name": "CenterY",
"type": "esriFieldTypeDouble",
"alias": "CenterY",
"domain": null
},
{
"name": "ZOrder",
"type": "esriFieldTypeInteger",
"alias": "ZOrder",
"domain": null
},
{
"name": "Shape_Length",
"type": "esriFieldTypeDouble",
"alias": "Shape_Length",
"domain": null
},
{
"name": "Shape_Area",
"type": "esriFieldTypeDouble",
"alias": "Shape_Area",
"domain": null
}
],
"capabilities": "Catalog,Mensuration,Image,Metadata",
"defaultMosaicMethod": "Northwest",
"allowedMosaicMethods": "NorthWest,Center,LockRaster,ByAttribute,Nadir,Viewpoint,Seamline,None",
"sortField": "",
"sortValue": null,
"sortAscending": true,
"mosaicOperator": "First",
"maxDownloadSizeLimit": 2048,
"defaultCompressionQuality": 75,
"defaultResamplingMethod": "Bilinear",
"maxImageHeight": 4100,
"maxImageWidth": 15000,
"maxRecordCount": 1000,
"maxDownloadImageCount": 20,
"maxMosaicImageCount": 20,
"allowRasterFunction": true,
"rasterFunctionInfos": [
{
"name": "None",
"description": "",
"help": ""
}
],
"rasterTypeInfos": [
{
"name": "Raster Dataset",
"description": "Supports all ArcGIS Raster Datasets",
"help": ""
}
],
"mensurationCapabilities": "Basic",
"hasHistograms": true,
"hasColormap": false,
"hasRasterAttributeTable": false,
"minScale": 0,
"maxScale": 0,
"exportTilesAllowed": false,
"supportsStatistics": true,
"supportsAdvancedQueries": true,
"editFieldsInfo": null,
"ownershipBasedAccessControlForRasters": null,
"allowComputeTiePoints": false,
"useStandardizedQueries": true,
"advancedQueryCapabilities": {
"useStandardizedQueries": true,
"supportsStatistics": true,
"supportsOrderBy": true,
"supportsDistinct": true,
"supportsPagination": true
},
"spatialReference": {"wkt": "PROJCS[\"Calgary_3TM_WGS_1984_W114\",GEOGCS[\"GCS_WGS_1984\",DATUM[\"D_WGS_1984\",SPHEROID[\"WGS_1984\",6378137.0,298.257223563]],PRIMEM[\"Greenwich\",0.0],UNIT[\"Degree\",0.0174532925199433]],PROJECTION[\"Transverse_Mercator\"],PARAMETER[\"False_Easting\",0.0],PARAMETER[\"False_Northing\",0.0],PARAMETER[\"Central_Meridian\",-114.0],PARAMETER[\"Scale_Factor\",0.9999],PARAMETER[\"Latitude_Of_Origin\",0.0],UNIT[\"Meter\",1.0]]"}
}