View In:
ArcGIS JavaScript
ArcGIS Online Map Viewer
ArcGIS Earth
ArcMap
ArcGIS Pro
View Footprint In:
ArcGIS Online Map Viewer
Service Description: Olympic Brick map has the ability to find bricks with knowing the inscription and/or who purchased the brick back in 1988 for the Calgary Winter Olympics.
Map Name: Layers
Legend
All Layers and Tables
Dynamic Legend
Dynamic All Layers
Layers:
Description: Olympic Brick map has the ability to find bricks with knowing the inscription and/or who purchased the brick back in 1988 for the Calgary Winter Olympics.
Copyright Text: City of Calgary
Spatial Reference:
102100
(3857)
Single Fused Map Cache: true
Tile Info:
- Height: 256
- Width: 256
- DPI: 96
-
Levels of Detail: 28
-
Level ID: 0
[ Start Tile, End Tile ]
- Resolution: 156543.03392800014
- Scale: 5.91657527591555E8
-
Level ID: 1
[ Start Tile, End Tile ]
- Resolution: 78271.51696399994
- Scale: 2.95828763795777E8
-
Level ID: 2
[ Start Tile, End Tile ]
- Resolution: 39135.75848200009
- Scale: 1.47914381897889E8
-
Level ID: 3
[ Start Tile, End Tile ]
- Resolution: 19567.87924099992
- Scale: 7.3957190948944E7
-
Level ID: 4
[ Start Tile, End Tile ]
- Resolution: 9783.93962049996
- Scale: 3.6978595474472E7
-
Level ID: 5
[ Start Tile, End Tile ]
- Resolution: 4891.96981024998
- Scale: 1.8489297737236E7
-
Level ID: 26
[ Start Tile, End Tile ]
- Resolution: 0.002332672981622005
- Scale: 8.8163841875
-
Level ID: 27
[ Start Tile, End Tile ]
- Resolution: 0.0011663364908110025
- Scale: 4.40819209375
- Format: MIXED
- Compression Quality: 75.0
- Origin: X: -2.0037508342787E7
Y: 2.0037508342787E7
- Spatial Reference: 102100
(3857)
Storage Info:
- Storage Format: esriMapCacheStorageModeCompactV2
- Packet Size: 128
Initial Extent:
XMin: -1.2697106068099208E7
YMin: 6629277.572503486
XMax: -1.269685365688552E7
YMax: 6629557.637160166
Spatial Reference: 102100
(3857)
Full Extent:
XMin: -1.2697067952756645E7
YMin: 6629339.777083226
XMax: -1.269689177222808E7
YMax: 6629495.432580426
Spatial Reference: 102100
(3857)
Units: esriMeters
Supported Image Format Types: PNG32,PNG24,PNG,JPG,DIB,TIFF,EMF,PS,PDF,GIF,SVG,SVGZ,BMP
Document Info:
Title: Olympic Brick Map
Author:
Comments: Olympic Brick map has the ability to find bricks with knowing the inscription and/or who purchased the brick back in 1988 for the Calgary Winter Olympics.
Subject: This map is to find the bricks purchased for the 1988 Calgary Winter Olympic games
Category:
Keywords: Olympic Brick,Bricks,Winter Olympic Games,1988
AntialiasingMode: None
TextAntialiasingMode: Force
Supports Dynamic Layers: true
MaxRecordCount: 2000
MaxImageHeight: 4096
MaxImageWidth: 4096
Supported Query Formats: JSON, geoJSON, PBF
Supports Query Data Elements: true
Min Scale: 5.91657527591555E8
Max Scale: 4.40819209375
Supports Datum Transformation: true
Child Resources:
Info
Dynamic Layer
Supported Operations:
Export Map
Identify
QueryLegends
QueryDomains
Find
Return Updates